Workbook
Name bin2word: _xlfn.LAMBDA(_xlpm.x,_xlfn.CONCAT(_xlfn.MAKEARRAY(8,1,_xlfn.LAMBDA(_xlpm.z,_xlpm.s,BIN2HEX(MID(_xlpm.x,1+(_xlpm.z-1)*4,4))))))
Name littleEndian: _xlfn.LAMBDA(_xlpm.w,bin2word(littleEndianToWord(word2bin(_xlpm.w))))
Name littleEndianToWord: _xlfn.LAMBDA(_xlpm.x,littleEndianToWordOffset(_xlpm.x,0))
Name littleEndianToWordOffset: _xlfn.LAMBDA(_xlpm.x,_xlpm.o,_xlfn.LET(_xlpm.p,MID(_xlpm.x,_xlpm.o*8+1,32),_xlfn.CONCAT(MID(_xlpm.p,24+1,8),MID(_xlpm.p,16+1,8),MID(_xlpm.p,8+1,8),MID(_xlpm.p,1,8))))
Name repeat_complete: _xlfn.LAMBDA(_xlpm.arr,_xlpm.c,IF(_xlpm.c=1,_xlpm.arr,repeat_complete(complete_round(_xlpm.arr),_xlpm.c-1)))
Name rotate_bin: _xlfn.LAMBDA(_xlpm.x,_xlpm.a,IF(_xlpm.a=0,_xlpm.x,_xlfn.CONCAT(MID(_xlpm.x,_xlpm.a+1,LEN(_xlpm.x)),MID(_xlpm.x,1,_xlpm.a))))
Name rotate_word: _xlfn.LAMBDA(_xlpm.w,_xlpm.a,bin2word(rotate_bin(word2bin(_xlpm.w),_xlpm.a)))
Name word_add: _xlfn.LAMBDA(_xlpm.a,_xlpm.b,har(_xlpm.a,_xlpm.b,"0"))
Name word2bin: _xlfn.LAMBDA(_xlpm.w,_xlfn.CONCAT(_xlfn.MAKEARRAY(LEN(_xlpm.w),1,_xlfn.LAMBDA(_xlpm.z,_xlpm.s,HEX2BIN(MID(_xlpm.w,_xlpm.z,1),4)))))
Name word2littleEndian: _xlfn.LAMBDA(_xlpm.w,littleEndianToWord(word2bin(_xlpm.w)))
Name xor_bin: _xlfn.LAMBDA(_xlpm.a,_xlpm.b,_xlfn.CONCAT(_xlfn.MAKEARRAY(1,MIN(LEN(_xlpm.a),LEN(_xlpm.b)),_xlfn.LAMBDA(_xlpm.z,_xlpm.s,MOD(MID(_xlpm.a,_xlpm.s,1)+MID(_xlpm.b,_xlpm.s,1),2)))))

Sheet ChaCha20
B2: Key (UTF8): | D2: 12345678123456781234567812345678 | J2: Plaintext (UTF8): | M2: Testmessage
B4: Nonce (HEX): | D4: 0000000000000000
J5: Plaintext (Hex): | M5: {=_xlfn.CONCAT(_xlfn.MAKEARRAY(1,LEN(M2),_xlfn.LAMBDA(_xlpm.z,_xlpm.s,_xlfn.LET(_xlpm.erg,DEC2HEX(_xlfn.UNICODE(MID(M2,_xlpm.s,1)),2),IF(S8,HEX2BIN(_xlpm.erg,8),_xlpm.erg)))))} -> 546573746D657373616765
B6: Counter: | D6: 0 | J6: Keystream (Hex): | M6: {=_xlfn.LET(_xlpm.erg,MID(E164,1,IF(S8,LEN(M5)/4,LEN(M5))),IF(S8,_xlfn.CONCAT(_xlfn.MAKEARRAY(1,LEN(_xlpm.erg),_xlfn.LAMBDA(_xlpm.z,_xlpm.s,HEX2BIN(MID(_xlpm.erg,_xlpm.s,1),4)))),_xlpm.erg))} -> 4FD9E76ABD6C9AD97D1301
J7: Ciphertext (Hex): | M7: {=IF(S8,xor_bin(M5,M6),_xlfn.CONCAT(_xlfn.MAKEARRAY(MIN(LEN(M6),LEN(M5)),1,_xlfn.LAMBDA(_xlpm.z,_xlpm.s,BIN2HEX(xor_bin(HEX2BIN(MID(M5,_xlpm.z,1),4),HEX2BIN(MID(M6,_xlpm.z,1),4)))))))} -> 1BBC941ED009E9AA1C7464
S8: FALSE | T8: Bits
B10: Bitstream (64 Byte): | D10: =E164 -> 4FD9E76ABD6C9AD97D1301EA2394600FD300152CDF8C0E6660FA9D25778AD3D3F09F909C918F12D670AFCA951DF83E456E9BBF8F0F4EB6E01E1D2D84AC50DAD7
E15: Key: | F15: {=REPT(DEC2HEX(0,2),32-LEN(D2))&_xlfn.CONCAT(_xlfn.MAKEARRAY(1,LEN(D2),_xlfn.LAMBDA(_xlpm.z,_xlpm.s,DEC2HEX(_xlfn.UNICODE(MID(D2,_xlpm.s,1)),2))))} -> 3132333435363738313233343536373831323334353637383132333435363738
E16: Nonce: | F16: =IF(LEN(D4)>=16,MID(D4,1,16),REPT(DEC2HEX(0,1),16-LEN(D4))&D4) -> 0000000000000000
E18: 0 | F18: 1 | G18: 2 | H18: 3 | I18: 4 | J18: 5 | K18: 6 | L18: 7 | M18: 8 | N18: 9 | O18: 10 | P18: 11 | Q18: 12 | R18: 13 | S18: 14 | T18: 15
E19: Constants | I19: Key | Q19: Counter | R19: 0 / Nonce | S19: Nonce | T19: Nonce
E20: 61707865 | F20: 3320646E | G20: 79622D32 | H20: 6B206574 | I20: {=_xlfn.MAKEARRAY(1,8,_xlfn.LAMBDA(_xlpm.z,_xlpm.s,littleEndian(MID(F15,1+(_xlpm.s-1)*8,8))))} -> 34333231 | J20: 38373635 | K20: 34333231 | L20: 38373635 | M20: 34333231 | N20: 38373635 | O20: 34333231 | P20: 38373635 | Q20: =DEC2HEX(D6,8) -> 00000000 | R20: =DEC2HEX(0,8) -> 00000000 | S20: {=_xlfn.MAKEARRAY(1,2,_xlfn.LAMBDA(_xlpm.z,_xlpm.s,littleEndian(MID(F16,1+(_xlpm.s-1)*8,8))))} -> 00000000 | T20: 00000000
E23: Initiale Matrix
E24: 0 | F24: 1 | G24: 2 | H24: 3 | I24: 4 | J24: 5 | K24: 6 | L24: 7 | M24: 8 | N24: 9 | O24: 10 | P24: 11 | Q24: 12 | R24: 13 | S24: 14 | T24: 15
E25: =E20 -> 61707865 | F25: =F20 -> 3320646E | G25: =G20 -> 79622D32 | H25: =H20 -> 6B206574 | I25: =I20 -> 34333231 | J25: =J20 -> 38373635 | K25: =K20 -> 34333231 | L25: =L20 -> 38373635 | ... T25: =T20 -> 00000000
B26: Quarterround(0,4,8,12) | E26: =Operations!N15 -> 45020945 | I26: =Operations!O15 -> 1C78366E | M26: =Operations!P15 -> 7366AEC3 | Q26: =Operations!Q15 -> 949CE6EF
B27: Quarterround(1,5,9,13) | F27: =INDEX(quater_round(F25,J25,N25,R25),1,1) -> 44D33951 | J27: =INDEX(quater_round(F25,J25,N25,R25),1,2) -> 2B9B624D | N27: =INDEX(quater_round(F25,J25,N25,R25),1,3) -> 432CA86A | R27: =INDEX(quater_round(F25,J25,N25,R25),1,4) -> 705206DE
B28: Quarterround(2,6,10,14) | G28: =INDEX(quater_round(G25,K25,O25,S25),1,1) -> 0C74D9DD | K28: =INDEX(quater_round(G25,K25,O25,S25),1,2) -> EA2931FA | O28: =INDEX(quater_round(G25,K25,O25,S25),1,3) -> AB0B2819 | S28: =INDEX(quater_round(G25,K25,O25,S25),1,4) -> 17744853
B29: Quarterround(3,7,11,15) | H29: =INDEX(quater_round(H25,L25,P25,T25),1,1) -> 22533A66 | L29: =INDEX(quater_round(H25,L25,P25,T25),1,2) -> 40CAFC58 | P29: =INDEX(quater_round(H25,L25,P25,T25),1,3) -> CE7A0B45 | T29: =INDEX(quater_round(H25,L25,P25,T25),1,4) -> FA9931B9
B30: Quarterround(0,5,10,15) | E30: =INDEX(quater_round(E26,J27,O28,T29),1,1) -> 4DA26E7C | J30: =INDEX(quater_round(E26,J27,O28,T29),1,2) -> 0F146F29 | O30: =INDEX(quater_round(E26,J27,O28,T29),1,3) -> 8F1B2A34 | T30: =INDEX(quater_round(E26,J27,O28,T29),1,4) -> 89E47817
B31: Quarterround(1,6,11,12) | F31: =INDEX(quater_round(F27,K28,P29,Q26),1,1) -> AE4266AE | K31: =INDEX(quater_round(F27,K28,P29,Q26),1,2) -> DF34559E | P31: =INDEX(quater_round(F27,K28,P29,Q26),1,3) -> 42FB93C8 | Q31: =INDEX(quater_round(F27,K28,P29,Q26),1,4) -> E6DCCE23
B32: Quarterround(2,7,8,13) | G32: =INDEX(quater_round(G28,L29,M26,R27),1,1) -> FE46567E | L32: =INDEX(quater_round(G28,L29,M26,R27),1,2) -> 5D3F8BA0 | M32: =INDEX(quater_round(G28,L29,M26,R27),1,3) -> F1BCFF5E | R32: =INDEX(quater_round(G28,L29,M26,R27),1,4) -> AD6B132E
B33: Quarterround(3,4,9,14) | H33: =INDEX(quater_round(H29,I26,N27,S28),1,1) -> FD0FE750 | I33: =INDEX(quater_round(H29,I26,N27,S28),1,2) -> 635BC95D | N33: =INDEX(quater_round(H29,I26,N27,S28),1,3) -> 0482C1EE | S33: =INDEX(quater_round(H29,I26,N27,S28),1,4) -> 88CEEFC5
E34: =E30 -> 4DA26E7C | F34: =F31 -> AE4266AE | G34: =G32 -> FE46567E | H34: =H33 -> FD0FE750 | I34: =I33 -> 635BC95D | J34: =J30 -> 0F146F29 | K34: =K31 -> DF34559E | L34: =L32 -> 5D3F8BA0 | M34: =M32 -> F1BCFF5E | N34: =N33 -> 0482C1EE | O34: =O30 -> 8F1B2A34 | P34: =P31 -> 42FB93C8 | Q34: =Q31 -> E6DCCE23 | R34: =R32 -> AD6B132E | S34: =S33 -> 88CEEFC5 | T34: =T30 -> 89E47817
E36: Round 3+4
E37: 0 | F37: 1 | G37: 2 | H37: 3 | I37: 4 | J37: 5 | K37: 6 | L37: 7 | M37: 8 | N37: 9 | O37: 10 | P37: 11 | Q37: 12 | R37: 13 | S37: 14 | T37: 15
E38: {=E34:T34} -> 4DA26E7C | F38: AE4266AE | G38: FE46567E | H38: FD0FE750 | I38: 635BC95D | J38: 0F146F29 | K38: DF34559E | L38: 5D3F8BA0 | M38: F1BCFF5E | N38: 0482C1EE | O38: 8F1B2A34 | P38: 42FB93C8 | Q38: E6DCCE23 | R38: AD6B132E | S38: 88CEEFC5 | T38: 89E47817
B39: Quarterround(0,4,8,12) | E39: =INDEX(quater_round(E38,I38,M38,Q38),1,1) -> 7ACC1067 | I39: =INDEX(quater_round(E38,I38,M38,Q38),1,2) -> 1821C6F4 | M39: =INDEX(quater_round(E38,I38,M38,Q38),1,3) -> 21FD9B03 | Q39: =INDEX(quater_round(E38,I38,M38,Q38),1,4) -> 36464583
B40: Quarterround(1,5,9,13) | F40: =INDEX(quater_round(F38,J38,N38,R38),1,1) -> B927021D | J40: =INDEX(quater_round(F38,J38,N38,R38),1,2) -> 2EEF7629 | N40: =INDEX(quater_round(F38,J38,N38,R38),1,3) -> A98DF2AA | R40: =INDEX(quater_round(F38,J38,N38,R38),1,4) -> DE12207F
B41: Quarterround(2,6,10,14) | G41: =INDEX(quater_round(G38,K38,O38,S38),1,1) -> E0220CF8 | K41: =INDEX(quater_round(G38,K38,O38,S38),1,2) -> 75562BE6 | O41: =INDEX(quater_round(G38,K38,O38,S38),1,3) -> CE4DCC8B | S41: =INDEX(quater_round(G38,K38,O38,S38),1,4) -> FB594CA3
B42: Quarterround(3,7,11,15) | H42: =INDEX(quater_round(H38,L38,P38,T38),1,1) -> 291CA3FD | L42: =INDEX(quater_round(H38,L38,P38,T38),1,2) -> CF464DC3 | P42: =INDEX(quater_round(H38,L38,P38,T38),1,3) -> 4953BD96 | T42: =INDEX(quater_round(H38,L38,P38,T38),1,4) -> FB705623
B43: Quarterround(0,5,10,15) | E43: =INDEX(quater_round(E39,J40,O41,T42),1,1) -> 905381AE | J43: =INDEX(quater_round(E39,J40,O41,T42),1,2) -> A1BFC44C | O43: =INDEX(quater_round(E39,J40,O41,T42),1,3) -> 7FD48496 | T43: =INDEX(quater_round(E39,J40,O41,T42),1,4) -> E0D36540
B44: Quarterround(1,6,11,12) | F44: =INDEX(quater_round(F40,K41,P42,Q39),1,1) -> 8E60AA1B | K44: =INDEX(quater_round(F40,K41,P42,Q39),1,2) -> 33455765 | P44: =INDEX(quater_round(F40,K41,P42,Q39),1,3) -> 9585F6B6 | Q44: =INDEX(quater_round(F40,K41,P42,Q39),1,4) -> E0B220E5
B45: Quarterround(2,7,8,13) | G45: =INDEX(quater_round(G41,L42,M39,R40),1,1) -> F3843FF3 | L45: =INDEX(quater_round(G41,L42,M39,R40),1,2) -> 85B99F4C | M45: =INDEX(quater_round(G41,L42,M39,R40),1,3) -> DD109606 | R45: =INDEX(quater_round(G41,L42,M39,R40),1,4) -> 404E8989
B46: Quarterround(3,4,9,14) | H46: =INDEX(quater_round(H42,I39,N40,S41),1,1) -> 57FCC86D | I46: =INDEX(quater_round(H42,I39,N40,S41),1,2) -> 76757F34 | N46: =INDEX(quater_round(H42,I39,N40,S41),1,3) -> 7E52B782 | S46: =INDEX(quater_round(H42,I39,N40,S41),1,4) -> AE720A71
E47: =E43 -> 905381AE | F47: =F44 -> 8E60AA1B | G47: =G45 -> F3843FF3 | H47: =H46 -> 57FCC86D | I47: =I46 -> 76757F34 | J47: =J43 -> A1BFC44C | K47: =K44 -> 33455765 | L47: =L45 -> 85B99F4C | M47: =M45 -> DD109606 | N47: =N46 -> 7E52B782 | O47: =O43 -> 7FD48496 | P47: =P44 -> 9585F6B6 | Q47: =Q44 -> E0B220E5 | R47: =R45 -> 404E8989 | S47: =S46 -> AE720A71 | T47: =T43 -> E0D36540
E49: Round 5+6
E50: 0 | F50: 1 | G50: 2 | H50: 3 | I50: 4 | J50: 5 | K50: 6 | L50: 7 | M50: 8 | N50: 9 | O50: 10 | P50: 11 | Q50: 12 | R50: 13 | S50: 14 | T50: 15
E51: {=E47:T47} -> 905381AE | F51: 8E60AA1B | G51: F3843FF3 | H51: 57FCC86D | I51: 76757F34 | J51: A1BFC44C | K51: 33455765 | L51: 85B99F4C | M51: DD109606 | N51: 7E52B782 | O51: 7FD48496 | P51: 9585F6B6 | Q51: E0B220E5 | R51: 404E8989 | S51: AE720A71 | T51: E0D36540
B52: Quarterround(0,4,8,12) | E52: =INDEX(quater_round(E51,I51,M51,Q51),1,1) -> D7045998 | I52: =INDEX(quater_round(E51,I51,M51,Q51),1,2) -> 719C6768 | M52: =INDEX(quater_round(E51,I51,M51,Q51),1,3) -> 00D86078 | Q52: =INDEX(quater_round(E51,I51,M51,Q51),1,4) -> 03BFE3F7
B53: Quarterround(1,5,9,13) | F53: =INDEX(quater_round(F51,J51,N51,R51),1,1) -> 1E5C3AE6 | J53: =INDEX(quater_round(F51,J51,N51,R51),1,2) -> 583E4B7B | N53: =INDEX(quater_round(F51,J51,N51,R51),1,3) -> 188BB0E9 | R53: =INDEX(quater_round(F51,J51,N51,R51),1,4) -> B24A88F9
B54: Quarterround(2,6,10,14) | G54: =INDEX(quater_round(G51,K51,O51,S51),1,1) -> DC6CDA53 | K54: =INDEX(quater_round(G51,K51,O51,S51),1,2) -> F9DBB4EB | O54: =INDEX(quater_round(G51,K51,O51,S51),1,3) -> 6250F592 | S54: =INDEX(quater_round(G51,K51,O51,S51),1,4) -> 4552E841
B55: Quarterround(3,7,11,15) | H55: =INDEX(quater_round(H51,L51,P51,T51),1,1) -> 486BD995 | L55: =INDEX(quater_round(H51,L51,P51,T51),1,2) -> E8AADCA0 | P55: =INDEX(quater_round(H51,L51,P51,T51),1,3) -> 2B642465 | T55: =INDEX(quater_round(H51,L51,P51,T51),1,4) -> 92E4F04A
B56: Quarterround(0,5,10,15) | E56: =INDEX(quater_round(E52,J53,O54,T55),1,1) -> 7EC6E40C | J56: =INDEX(quater_round(E52,J53,O54,T55),1,2) -> 4031CD0C | O56: =INDEX(quater_round(E52,J53,O54,T55),1,3) -> 57045D63 | T56: =INDEX(quater_round(E52,J53,O54,T55),1,4) -> 9F59AA2B
B57: Quarterround(1,6,11,12) | F57: =INDEX(quater_round(F53,K54,P55,Q52),1,1) -> 30E85CB6 | K57: =INDEX(quater_round(F53,K54,P55,Q52),1,2) -> B089660E | P57: =INDEX(quater_round(F53,K54,P55,Q52),1,3) -> 05D17E29 | Q57: =INDEX(quater_round(F53,K54,P55,Q52),1,4) -> CE473E3C
B58: Quarterround(2,7,8,13) | G58: =INDEX(quater_round(G54,L55,M52,R53),1,1) -> 45CF1457 | L58: =INDEX(quater_round(G54,L55,M52,R53),1,2) -> 795F9A42 | M58: =INDEX(quater_round(G54,L55,M52,R53),1,3) -> 0445E250 | R58: =INDEX(quater_round(G54,L55,M52,R53),1,4) -> C5630A7B
B59: Quarterround(3,4,9,14) | H59: =INDEX(quater_round(H55,I52,N53,S54),1,1) -> 077AFC0A | I59: =INDEX(quater_round(H55,I52,N53,S54),1,2) -> 1F5DFFE5 | N59: =INDEX(quater_round(H55,I52,N53,S54),1,3) -> 874C00F2 | S59: =INDEX(quater_round(H55,I52,N53,S54),1,4) -> C60350AF
E60: =E56 -> 7EC6E40C | F60: =F57 -> 30E85CB6 | G60: =G58 -> 45CF1457 | H60: =H59 -> 077AFC0A | I60: =I59 -> 1F5DFFE5 | J60: =J56 -> 4031CD0C | K60: =K57 -> B089660E | L60: =L58 -> 795F9A42 | M60: =M58 -> 0445E250 | N60: =N59 -> 874C00F2 | O60: =O56 -> 57045D63 | P60: =P57 -> 05D17E29 | Q60: =Q57 -> CE473E3C | R60: =R58 -> C5630A7B | S60: =S59 -> C60350AF | T60: =T56 -> 9F59AA2B
E62: Round 7+8
E63: 0 | F63: 1 | G63: 2 | H63: 3 | I63: 4 | J63: 5 | K63: 6 | L63: 7 | M63: 8 | N63: 9 | O63: 10 | P63: 11 | Q63: 12 | R63: 13 | S63: 14 | T63: 15
E64: {=E60:T60} -> 7EC6E40C | F64: 30E85CB6 | G64: 45CF1457 | H64: 077AFC0A | I64: 1F5DFFE5 | J64: 4031CD0C | K64: B089660E | L64: 795F9A42 | M64: 0445E250 | N64: 874C00F2 | O64: 57045D63 | P64: 05D17E29 | Q64: CE473E3C | R64: C5630A7B | S64: C60350AF | T64: 9F59AA2B
B65: Quarterround(0,4,8,12) | E65: =INDEX(quater_round(E64,I64,M64,Q64),1,1) -> 8AFA53C5 | I65: =INDEX(quater_round(E64,I64,M64,Q64),1,2) -> E1DB6F7A | M65: =INDEX(quater_round(E64,I64,M64,Q64),1,3) -> 1916D90A | Q65: =INDEX(quater_round(E64,I64,M64,Q64),1,4) -> 3703A657
B66: Quarterround(1,5,9,13) | F66: =INDEX(quater_round(F64,J64,N64,R64),1,1) -> B8A0A875 | J66: =INDEX(quater_round(F64,J64,N64,R64),1,2) -> D3DE5AC1 | N66: =INDEX(quater_round(F64,J64,N64,R64),1,3) -> C421C206 | R66: =INDEX(quater_round(F64,J64,N64,R64),1,4) -> 191C0C9B
B67: Quarterround(2,6,10,14) | G67: =INDEX(quater_round(G64,K64,O64,S64),1,1) -> 75137D79 | K67: =INDEX(quater_round(G64,K64,O64,S64),1,2) -> D0598492 | O67: =INDEX(quater_round(G64,K64,O64,S64),1,3) -> 5B1BB01D | S67: =INDEX(quater_round(G64,K64,O64,S64),1,4) -> D94D225F
B68: Quarterround(3,7,11,15) | H68: =INDEX(quater_round(H64,L64,P64,T64),1,1) -> F1597A02 | L68: =INDEX(quater_round(H64,L64,P64,T64),1,2) -> 707E67F8 | P68: =INDEX(quater_round(H64,L64,P64,T64),1,3) -> 809E1F79 | T68: =INDEX(quater_round(H64,L64,P64,T64),1,4) -> 3E6581CD
B69: Quarterround(0,5,10,15) | E69: =INDEX(quater_round(E65,J66,O67,T68),1,1) -> F37A6421 | J69: =INDEX(quater_round(E65,J66,O67,T68),1,2) -> E50C1697 | O69: =INDEX(quater_round(E65,J66,O67,T68),1,3) -> BB6BADB6 | T69: =INDEX(quater_round(E65,J66,O67,T68),1,4) -> 31049CDC
B70: Quarterround(1,6,11,12) | F70: =INDEX(quater_round(F66,K67,P68,Q65),1,1) -> FEB83AC2 | K70: =INDEX(quater_round(F66,K67,P68,Q65),1,2) -> E50BAE40 | P70: =INDEX(quater_round(F66,K67,P68,Q65),1,3) -> F4741AE7 | Q70: =INDEX(quater_round(F66,K67,P68,Q65),1,4) -> E8853B75
B71: Quarterround(2,7,8,13) | G71: =INDEX(quater_round(G67,L68,M65,R66),1,1) -> E0B8DCA8 | L71: =INDEX(quater_round(G67,L68,M65,R66),1,2) -> 0386CBD7 | M71: =INDEX(quater_round(G67,L68,M65,R66),1,3) -> 5521FAA0 | R71: =INDEX(quater_round(G67,L68,M65,R66),1,4) -> 52202509
B72: Quarterround(3,4,9,14) | H72: =INDEX(quater_round(H68,I65,N66,S67),1,1) -> CD654065 | I72: =INDEX(quater_round(H68,I65,N66,S67),1,2) -> DF5F3617 | N72: =INDEX(quater_round(H68,I65,N66,S67),1,3) -> D58EE885 | S72: =INDEX(quater_round(H68,I65,N66,S67),1,4) -> 464A1C06
E73: =E69 -> F37A6421 | F73: =F70 -> FEB83AC2 | G73: =G71 -> E0B8DCA8 | H73: =H72 -> CD654065 | I73: =I72 -> DF5F3617 | J73: =J69 -> E50C1697 | K73: =K70 -> E50BAE40 | L73: =L71 -> 0386CBD7 | M73: =M71 -> 5521FAA0 | N73: =N72 -> D58EE885 | O73: =O69 -> BB6BADB6 | P73: =P70 -> F4741AE7 | Q73: =Q70 -> E8853B75 | R73: =R71 -> 52202509 | S73: =S72 -> 464A1C06 | T73: =T69 -> 31049CDC
E75: Round 9+10
E76: 0 | F76: 1 | G76: 2 | H76: 3 | I76: 4 | J76: 5 | K76: 6 | L76: 7 | M76: 8 | N76: 9 | O76: 10 | P76: 11 | Q76: 12 | R76: 13 | S76: 14 | T76: 15
E77: {=E73:T73} -> F37A6421 | F77: FEB83AC2 | G77: E0B8DCA8 | H77: CD654065 | I77: DF5F3617 | J77: E50C1697 | K77: E50BAE40 | L77: 0386CBD7 | M77: 5521FAA0 | N77: D58EE885 | O77: BB6BADB6 | P77: F4741AE7 | Q77: E8853B75 | R77: 52202509 | S77: 464A1C06 | T77: 31049CDC
B78: Quarterround(0,4,8,12) | E78: =INDEX(quater_round(E77,I77,M77,Q77),1,1) -> D3084CCB | I78: =INDEX(quater_round(E77,I77,M77,Q77),1,2) -> E5BF7E9D | M78: =INDEX(quater_round(E77,I77,M77,Q77),1,3) -> 3BE5CC6E | Q78: =INDEX(quater_round(E77,I77,M77,Q77),1,4) -> 45769772
B79: Quarterround(1,5,9,13) | F79: =INDEX(quater_round(F77,J77,N77,R77),1,1) -> 1C943C26 | J79: =INDEX(quater_round(F77,J77,N77,R77),1,2) -> 515B0E1B | N79: =INDEX(quater_round(F77,J77,N77,R77),1,3) -> 0E6D5CD1 | R79: =INDEX(quater_round(F77,J77,N77,R77),1,4) -> C48DC268
B80: Quarterround(2,6,10,14) | G80: =INDEX(quater_round(G77,K77,O77,S77),1,1) -> DFB4D65D | K80: =INDEX(quater_round(G77,K77,O77,S77),1,2) -> A027FC5A | O80: =INDEX(quater_round(G77,K77,O77,S77),1,3) -> ACB0048D | S80: =INDEX(quater_round(G77,K77,O77,S77),1,4) -> 5A55D349
B81: Quarterround(3,7,11,15) | H81: =INDEX(quater_round(H77,L77,P77,T77),1,1) -> F45D94A9 | L81: =INDEX(quater_round(H77,L77,P77,T77),1,2) -> DDDB2F30 | P81: =INDEX(quater_round(H77,L77,P77,T77),1,3) -> 42CA3E33 | T81: =INDEX(quater_round(H77,L77,P77,T77),1,4) -> BD754164
B82: Quarterround(0,5,10,15) | E82: =INDEX(quater_round(E78,J79,O80,T81),1,1) -> BD9EE47C | J82: =INDEX(quater_round(E78,J79,O80,T81),1,2) -> C5C0EFBE | O82: =INDEX(quater_round(E78,J79,O80,T81),1,3) -> E4B00849 | T82: =INDEX(quater_round(E78,J79,O80,T81),1,4) -> 1C7D6AA6
B83: Quarterround(1,6,11,12) | F83: =INDEX(quater_round(F79,K80,P81,Q78),1,1) -> 6976ADA9 | K83: =INDEX(quater_round(F79,K80,P81,Q78),1,2) -> D5F7756D | P83: =INDEX(quater_round(F79,K80,P81,Q78),1,3) -> 77119BC3 | Q83: =INDEX(quater_round(F79,K80,P81,Q78),1,4) -> 845463C6
B84: Quarterround(2,7,8,13) | G84: =INDEX(quater_round(G80,L81,M78,R79),1,1) -> C43BC36E | L84: =INDEX(quater_round(G80,L81,M78,R79),1,2) -> 1702B7F2 | M84: =INDEX(quater_round(G80,L81,M78,R79),1,3) -> E285B88E | R84: =INDEX(quater_round(G80,L81,M78,R79),1,4) -> DEBA7303
B85: Quarterround(3,4,9,14) | H85: =INDEX(quater_round(H81,I78,N79,S80),1,1) -> 14555602 | I85: =INDEX(quater_round(H81,I78,N79,S80),1,2) -> B5B2A889 | N85: =INDEX(quater_round(H81,I78,N79,S80),1,3) -> 295327ED | S85: =INDEX(quater_round(H81,I78,N79,S80),1,4) -> 5AD64AD4
E86: =E82 -> BD9EE47C | F86: =F83 -> 6976ADA9 | G86: =G84 -> C43BC36E | H86: =H85 -> 14555602 | I86: =I85 -> B5B2A889 | J86: =J82 -> C5C0EFBE | K86: =K83 -> D5F7756D | L86: =L84 -> 1702B7F2 | M86: =M84 -> E285B88E | N86: =N85 -> 295327ED | O86: =O82 -> E4B00849 | P86: =P83 -> 77119BC3 | Q86: =Q83 -> 845463C6 | R86: =R84 -> DEBA7303 | S86: =S85 -> 5AD64AD4 | T86: =T82 -> 1C7D6AA6
E88: Round 11+12
E89: 0 | F89: 1 | G89: 2 | H89: 3 | I89: 4 | J89: 5 | K89: 6 | L89: 7 | M89: 8 | N89: 9 | O89: 10 | P89: 11 | Q89: 12 | R89: 13 | S89: 14 | T89: 15
E90: {=E86:T86} -> BD9EE47C | F90: 6976ADA9 | G90: C43BC36E | H90: 14555602 | I90: B5B2A889 | J90: C5C0EFBE | K90: D5F7756D | L90: 1702B7F2 | M90: E285B88E | N90: 295327ED | O90: E4B00849 | P90: 77119BC3 | Q90: 845463C6 | R90: DEBA7303 | S90: 5AD64AD4 | T90: 1C7D6AA6
B91: Quarterround(0,4,8,12) | E91: =INDEX(quater_round(E90,I90,M90,Q90),1,1) -> 23C33354 | I91: =INDEX(quater_round(E90,I90,M90,Q90),1,2) -> 3FD397B1 | M91: =INDEX(quater_round(E90,I90,M90,Q90),1,3) -> D20E0160 | Q91: =INDEX(quater_round(E90,I90,M90,Q90),1,4) -> 00C451CD
B92: Quarterround(1,5,9,13) | F92: =INDEX(quater_round(F90,J90,N90,R90),1,1) -> BEA3EA8E | J92: =INDEX(quater_round(F90,J90,N90,R90),1,2) -> DFA8F6A8 | N92: =INDEX(quater_round(F90,J90,N90,R90),1,3) -> DED31CCA | R92: =INDEX(quater_round(F90,J90,N90,R90),1,4) -> C71B0350
B93: Quarterround(2,6,10,14) | G93: =INDEX(quater_round(G90,K90,O90,S90),1,1) -> 25F7710F | K93: =INDEX(quater_round(G90,K90,O90,S90),1,2) -> 5AC5D8E2 | O93: =INDEX(quater_round(G90,K90,O90,S90),1,3) -> 4F71B385 | S93: =INDEX(quater_round(G90,K90,O90,S90),1,4) -> F8B1EA57
B94: Quarterround(3,7,11,15) | H94: =INDEX(quater_round(H90,L90,P90,T90),1,1) -> 41A9BA8A | L94: =INDEX(quater_round(H90,L90,P90,T90),1,2) -> D0174C67 | P94: =INDEX(quater_round(H90,L90,P90,T90),1,3) -> D9F1820E | T94: =INDEX(quater_round(H90,L90,P90,T90),1,4) -> FB8DAF26
B95: Quarterround(0,5,10,15) | E95: =INDEX(quater_round(E91,J92,O93,T94),1,1) -> 49190A9A | J95: =INDEX(quater_round(E91,J92,O93,T94),1,2) -> C9E455EF | O95: =INDEX(quater_round(E91,J92,O93,T94),1,3) -> 9A3F2835 | T95: =INDEX(quater_round(E91,J92,O93,T94),1,4) -> C3F27BCF
B96: Quarterround(1,6,11,12) | F96: =INDEX(quater_round(F92,K93,P94,Q91),1,1) -> CD9F56D6 | K96: =INDEX(quater_round(F92,K93,P94,Q91),1,2) -> 65C23E1D | P96: =INDEX(quater_round(F92,K93,P94,Q91),1,3) -> 8EFE171A | Q96: =INDEX(quater_round(F92,K93,P94,Q91),1,4) -> 224F7B5F
B97: Quarterround(2,7,8,13) | G97: =INDEX(quater_round(G93,L94,M91,R92),1,1) -> 2DEFE178 | L97: =INDEX(quater_round(G93,L94,M91,R92),1,2) -> F2C20536 | M97: =INDEX(quater_round(G93,L94,M91,R92),1,3) -> 5A04A008 | R97: =INDEX(quater_round(G93,L94,M91,R92),1,4) -> C9D06D93
B98: Quarterround(3,4,9,14) | H98: =INDEX(quater_round(H94,I91,N92,S93),1,1) -> 418FCCC9 | I98: =INDEX(quater_round(H94,I91,N92,S93),1,2) -> 737300DD | N98: =INDEX(quater_round(H94,I91,N92,S93),1,3) -> 7AF49C8F | S98: =INDEX(quater_round(H94,I91,N92,S93),1,4) -> E3B505F9
E99: =E95 -> 49190A9A | F99: =F96 -> CD9F56D6 | G99: =G97 -> 2DEFE178 | H99: =H98 -> 418FCCC9 | I99: =I98 -> 737300DD | J99: =J95 -> C9E455EF | K99: =K96 -> 65C23E1D | L99: =L97 -> F2C20536 | M99: =M97 -> 5A04A008 | N99: =N98 -> 7AF49C8F | O99: =O95 -> 9A3F2835 | P99: =P96 -> 8EFE171A | Q99: =Q96 -> 224F7B5F | R99: =R97 -> C9D06D93 | S99: =S98 -> E3B505F9 | T99: =T95 -> C3F27BCF
E101: Round 13+14
E102: 0 | F102: 1 | G102: 2 | H102: 3 | I102: 4 | J102: 5 | K102: 6 | L102: 7 | M102: 8 | N102: 9 | O102: 10 | P102: 11 | Q102: 12 | R102: 13 | S102: 14 | T102: 15
E103: {=E99:T99} -> 49190A9A | F103: CD9F56D6 | G103: 2DEFE178 | H103: 418FCCC9 | I103: 737300DD | J103: C9E455EF | K103: 65C23E1D | L103: F2C20536 | M103: 5A04A008 | N103: 7AF49C8F | O103: 9A3F2835 | P103: 8EFE171A | Q103: 224F7B5F | R103: C9D06D93 | S103: E3B505F9 | T103: C3F27BCF
B104: Quarterround(0,4,8,12) | E104: =INDEX(quater_round(E103,I103,M103,Q103),1,1) -> A06D770C | I104: =INDEX(quater_round(E103,I103,M103,Q103),1,2) -> FB328779 | M104: =INDEX(quater_round(E103,I103,M103,Q103),1,3) -> 10170E9B | Q104: =INDEX(quater_round(E103,I103,M103,Q103),1,4) -> 45E9CFD0
B105: Quarterround(1,5,9,13) | F105: =INDEX(quater_round(F103,J103,N103,R103),1,1) -> 82748C1F | J105: =INDEX(quater_round(F103,J103,N103,R103),1,2) -> F6CC3FDA | N105: =INDEX(quater_round(F103,J103,N103,R103),1,3) -> 5F1D4725 | R105: =INDEX(quater_round(F103,J103,N103,R103),1,4) -> 22D24C43
B106: Quarterround(2,6,10,14) | G106: =INDEX(quater_round(G103,K103,O103,S103),1,1) -> 2E143CAB | K106: =INDEX(quater_round(G103,K103,O103,S103),1,2) -> 4D2CB35B | O106: =INDEX(quater_round(G103,K103,O103,S103),1,3) -> 2CF84470 | S106: =INDEX(quater_round(G103,K103,O103,S103),1,4) -> 784CAC34
B107: Quarterround(3,7,11,15) | H107: =INDEX(quater_round(H103,L103,P103,T103),1,1) -> 050A8EBD | L107: =INDEX(quater_round(H103,L103,P103,T103),1,2) -> 8848E951 | P107: =INDEX(quater_round(H103,L103,P103,T103),1,3) -> 73A82D6C | T107: =INDEX(quater_round(H103,L103,P103,T103),1,4) -> 3A791EAF
B108: Quarterround(0,5,10,15) | E108: =INDEX(quater_round(E104,J105,O106,T107),1,1) -> 7420591E | J108: =INDEX(quater_round(E104,J105,O106,T107),1,2) -> E8795A71 | O108: =INDEX(quater_round(E104,J105,O106,T107),1,3) -> 3F36508C | T108: =INDEX(quater_round(E104,J105,O106,T107),1,4) -> 69F45EDC
B109: Quarterround(1,6,11,12) | F109: =INDEX(quater_round(F105,K106,P107,Q104),1,1) -> AFF03211 | K109: =INDEX(quater_round(F105,K106,P107,Q104),1,2) -> A2F1C22F | P109: =INDEX(quater_round(F105,K106,P107,Q104),1,3) -> BF0B1113 | Q109: =INDEX(quater_round(F105,K106,P107,Q104),1,4) -> 5AB8595F
B110: Quarterround(2,7,8,13) | G110: =INDEX(quater_round(G106,L107,M104,R105),1,1) -> 9B04E515 | L110: =INDEX(quater_round(G106,L107,M104,R105),1,2) -> F7C082E8 | M110: =INDEX(quater_round(G106,L107,M104,R105),1,3) -> 35483E1C | R110: =INDEX(quater_round(G106,L107,M104,R105),1,4) -> BB719AF2
B111: Quarterround(3,4,9,14) | H111: =INDEX(quater_round(H107,I104,N105,S106),1,1) -> D3CC1458 | I111: =INDEX(quater_round(H107,I104,N105,S106),1,2) -> 028B6E9A | N111: =INDEX(quater_round(H107,I104,N105,S106),1,3) -> E78BE8FF | S111: =INDEX(quater_round(H107,I104,N105,S106),1,4) -> CE6C2969
E112: =E108 -> 7420591E | F112: =F109 -> AFF03211 | G112: =G110 -> 9B04E515 | H112: =H111 -> D3CC1458 | I112: =I111 -> 028B6E9A | J112: =J108 -> E8795A71 | K112: =K109 -> A2F1C22F | L112: =L110 -> F7C082E8 | M112: =M110 -> 35483E1C | N112: =N111 -> E78BE8FF | O112: =O108 -> 3F36508C | P112: =P109 -> BF0B1113 | Q112: =Q109 -> 5AB8595F | R112: =R110 -> BB719AF2 | S112: =S111 -> CE6C2969 | T112: =T108 -> 69F45EDC
E114: Round 15+16
E115: 0 | F115: 1 | G115: 2 | H115: 3 | I115: 4 | J115: 5 | K115: 6 | L115: 7 | M115: 8 | N115: 9 | O115: 10 | P115: 11 | Q115: 12 | R115: 13 | S115: 14 | T115: 15
E116: {=E112:T112} -> 7420591E | F116: AFF03211 | G116: 9B04E515 | H116: D3CC1458 | I116: 028B6E9A | J116: E8795A71 | K116: A2F1C22F | L116: F7C082E8 | M116: 35483E1C | N116: E78BE8FF | O116: 3F36508C | P116: BF0B1113 | Q116: 5AB8595F | R116: BB719AF2 | S116: CE6C2969 | T116: 69F45EDC
B117: Quarterround(0,4,8,12) | E117: =INDEX(quater_round(E116,I116,M116,Q116),1,1) -> B6F72522 | I117: =INDEX(quater_round(E116,I116,M116,Q116),1,2) -> 39E31ED2 | M117: =INDEX(quater_round(E116,I116,M116,Q116),1,3) -> E4389B57 | Q117: =INDEX(quater_round(E116,I116,M116,Q116),1,4) -> 10093128
...

Sheet Operations
C3: ="Rotate("&D7&","&E10&")" -> Rotate(61707865,0) | K3: Quarterround(0,4,8,12)
N5: a | O5: b | P5: c | Q5: d
N6: =ChaCha20!E20 -> 61707865 | O6: =ChaCha20!I20 -> 34333231 | P6: =ChaCha20!M20 -> 34333231 | Q6: =ChaCha20!Q20 -> 00000000
D7: =ChaCha20!E20 -> 61707865 | K7: (1) a=a+b | N7: {=word_add(N6,O6)} -> 95A3AA96
K8: (2) d=ROTATE(d^a,16) | Q8: {=rotate_word(xor_word(Q6,N7),16)} -> AA9695A3
C9: {=word2bin(D7)} -> 01100001011100000111100001100101 | K9: (3) c=c+d | P9: {=word_add(P6,Q8)} -> DEC9C7D4
D10: Rotate: | E10: 0 | H10: ="Rotate ("&E10&")" -> Rotate (0) | K10: (4) b=ROTATE(b^c,12) | O10: {=rotate_word(xor_word(O6,P9),12)} -> AF5E5EAF
C11: {=word2bin(D13)} -> 01100001011100000111100001100101 | K11: (5) a=a+b | N11: {=word_add(N7,O10)} -> 45020945
K12: (6) d=ROTATE(d^a,8) | Q12: {=rotate_word(xor_word(Q8,N11),8)} -> 949CE6EF
D13: {=rotate_word(D7,E10)} -> 61707865 | K13: (7) c=c+d | P13: {=word_add(P9,Q12)} -> 7366AEC3
K14: (8) b=ROTATE(b^c,7) | O14: {=rotate_word(xor_word(O10,P13),7)} -> 1C78366E
N15: =N11 -> 45020945 | O15: =O14 -> 1C78366E | P15: =P13 -> 7366AEC3 | Q15: =Q12 -> 949CE6EF
C19: LittleEndian
C21: =MID(ChaCha20!E20,1,8) -> 61707865
C22: =MID(C21,1,2) -> 61 | D22: =MID(C21,3,2) -> 70 | E22: =MID(C21,5,2) -> 78 | F22: =MID(C21,7,2) -> 65
C25: =F22 -> 65 | D25: =E22 -> 78 | E25: =D22 -> 70 | F25: =C22 -> 61
C26: {=littleEndian(C21)} -> 65787061
