Workbook
Name bin2word: _xlfn.LAMBDA(_xlpm.x,_xlfn.CONCAT(_xlfn.MAKEARRAY(8,1,_xlfn.LAMBDA(_xlpm.z,_xlpm.s,BIN2HEX(MID(_xlpm.x,1+(_xlpm.z-1)*4,4))))))
Name littleEndian: _xlfn.LAMBDA(_xlpm.w,bin2word(littleEndianToWord(word2bin(_xlpm.w))))
Name littleEndianToWord: _xlfn.LAMBDA(_xlpm.x,littleEndianToWordOffset(_xlpm.x,0))
Name littleEndianToWordOffset: _xlfn.LAMBDA(_xlpm.x,_xlpm.o,_xlfn.LET(_xlpm.p,MID(_xlpm.x,_xlpm.o*8+1,32),_xlfn.CONCAT(MID(_xlpm.p,24+1,8),MID(_xlpm.p,16+1,8),MID(_xlpm.p,8+1,8),MID(_xlpm.p,1,8))))
Name repeat_complete: _xlfn.LAMBDA(_xlpm.arr,_xlpm.c,IF(_xlpm.c=1,_xlpm.arr,repeat_complete(complete_round(_xlpm.arr),_xlpm.c-1)))
Name rotate_bin: _xlfn.LAMBDA(_xlpm.x,_xlpm.a,IF(_xlpm.a=0,_xlpm.x,_xlfn.CONCAT(MID(_xlpm.x,_xlpm.a+1,LEN(_xlpm.x)),MID(_xlpm.x,1,_xlpm.a))))
Name rotate_word: _xlfn.LAMBDA(_xlpm.w,_xlpm.a,bin2word(rotate_bin(word2bin(_xlpm.w),_xlpm.a)))
Name word_add: _xlfn.LAMBDA(_xlpm.a,_xlpm.b,har(_xlpm.a,_xlpm.b,"0"))
Name word2bin: _xlfn.LAMBDA(_xlpm.w,_xlfn.CONCAT(_xlfn.MAKEARRAY(LEN(_xlpm.w),1,_xlfn.LAMBDA(_xlpm.z,_xlpm.s,HEX2BIN(MID(_xlpm.w,_xlpm.z,1),4)))))
Name word2littleEndian: _xlfn.LAMBDA(_xlpm.w,littleEndianToWord(word2bin(_xlpm.w)))
Name xor_bin: _xlfn.LAMBDA(_xlpm.a,_xlpm.b,_xlfn.CONCAT(_xlfn.MAKEARRAY(1,MIN(LEN(_xlpm.a),LEN(_xlpm.b)),_xlfn.LAMBDA(_xlpm.z,_xlpm.s,MOD(MID(_xlpm.a,_xlpm.s,1)+MID(_xlpm.b,_xlpm.s,1),2)))))

Sheet ChaCha20
B2: Key (UTF8): | D2: 12345678123456781234567812345678 | J2: Plaintext (UTF8): | M2: Testmessage
B4: Nonce (HEX): | D4: 0000000000000000
J5: Plaintext (Hex): | M5: {=_xlfn.CONCAT(_xlfn.MAKEARRAY(1,LEN(M2),_xlfn.LAMBDA(_xlpm.z,_xlpm.s,_xlfn.LET(_xlpm.erg,DEC2HEX(_xlfn.UNICODE(MID(M2,_xlpm.s,1)),2),IF(S8,HEX2BIN(_xlpm.erg,8),_xlpm.erg)))))} -> 546573746D657373616765
B6: Counter: | D6: 0 | J6: Keystream (Hex): | M6: {=_xlfn.LET(_xlpm.erg,MID(E164,1,IF(S8,LEN(M5)/4,LEN(M5))),IF(S8,_xlfn.CONCAT(_xlfn.MAKEARRAY(1,LEN(_xlpm.erg),_xlfn.LAMBDA(_xlpm.z,_xlpm.s,HEX2BIN(MID(_xlpm.erg,_xlpm.s,1),4)))),_xlpm.erg))} -> 4FD9E76ABD6C9AD97D1301
J7: Ciphertext (Hex): | M7: {=IF(S8,xor_bin(M5,M6),_xlfn.CONCAT(_xlfn.MAKEARRAY(MIN(LEN(M6),LEN(M5)),1,_xlfn.LAMBDA(_xlpm.z,_xlpm.s,BIN2HEX(xor_bin(HEX2BIN(MID(M5,_xlpm.z,1),4),HEX2BIN(MID(M6,_xlpm.z,1),4)))))))} -> 1BBC941ED009E9AA1C7464
S8: FALSE | T8: Bits
B10: Bitstream (64 Byte): | D10: =E164 -> 4FD9E76ABD6C9AD97D1301EA2394600FD300152CDF8C0E6660FA9D25778AD3D3F09F909C918F12D670AFCA951DF83E456E9BBF8F0F4EB6E01E1D2D84AC50DAD7
E15: Key: | F15: {=REPT(DEC2HEX(0,2),32-LEN(D2))&_xlfn.CONCAT(_xlfn.MAKEARRAY(1,LEN(D2),_xlfn.LAMBDA(_xlpm.z,_xlpm.s,DEC2HEX(_xlfn.UNICODE(MID(D2,_xlpm.s,1)),2))))} -> 3132333435363738313233343536373831323334353637383132333435363738
E16: Nonce: | F16: =IF(LEN(D4)>=16,MID(D4,1,16),REPT(DEC2HEX(0,1),16-LEN(D4))&D4) -> 0000000000000000
E18: 0 | F18: 1 | G18: 2 | H18: 3 | I18: 4 | J18: 5 | K18: 6 | L18: 7 | M18: 8 | N18: 9 | O18: 10 | P18: 11 | Q18: 12 | R18: 13 | S18: 14 | T18: 15
E19: Constants | I19: Key | Q19: Counter | R19: 0 / Nonce | S19: Nonce | T19: Nonce
E20: 61707865 | F20: 3320646E | G20: 79622D32 | H20: 6B206574 | I20: {=_xlfn.MAKEARRAY(1,8,_xlfn.LAMBDA(_xlpm.z,_xlpm.s,littleEndian(MID(F15,1+(_xlpm.s-1)*8,8))))} -> 34333231 | J20: 38373635 | K20: 34333231 | L20: 38373635 | M20: 34333231 | N20: 38373635 | O20: 34333231 | P20: 38373635 | Q20: =DEC2HEX(D6,8) -> 00000000 | R20: =DEC2HEX(0,8) -> 00000000 | S20: {=_xlfn.MAKEARRAY(1,2,_xlfn.LAMBDA(_xlpm.z,_xlpm.s,littleEndian(MID(F16,1+(_xlpm.s-1)*8,8))))} -> 00000000 | T20: 00000000
E23: Initiale Matrix
E24: 0 | F24: 1 | G24: 2 | H24: 3 | I24: 4 | J24: 5 | K24: 6 | L24: 7 | M24: 8 | N24: 9 | O24: 10 | P24: 11 | Q24: 12 | R24: 13 | S24: 14 | T24: 15
E25: =E20 -> 61707865 | F25: =F20 -> 3320646E | G25: =G20 -> 79622D32 | H25: =H20 -> 6B206574 | I25: =I20 -> 34333231 | J25: =J20 -> 38373635 | K25: =K20 -> 34333231 | L25: =L20 -> 38373635 | ... T25: =T20 -> 00000000
B26: Quarterround(0,4,8,12) | E26: =Operations!N15 -> 45020945 | I26: =Operations!O15 -> 1C78366E | M26: =Operations!P15 -> 7366AEC3 | Q26: =Operations!Q15 -> 949CE6EF
B27: Quarterround(1,5,9,13) | F27: =INDEX(quater_round(F25,J25,N25,R25),1,1) -> 44D33951 | J27: =INDEX(quater_round(F25,J25,N25,R25),1,2) -> 2B9B624D | N27: =INDEX(quater_round(F25,J25,N25,R25),1,3) -> 432CA86A | R27: =INDEX(quater_round(F25,J25,N25,R25),1,4) -> 705206DE
B28: Quarterround(2,6,10,14) | G28: =INDEX(quater_round(G25,K25,O25,S25),1,1) -> 0C74D9DD | K28: =INDEX(quater_round(G25,K25,O25,S25),1,2) -> EA2931FA | O28: =INDEX(quater_round(G25,K25,O25,S25),1,3) -> AB0B2819 | S28: =INDEX(quater_round(G25,K25,O25,S25),1,4) -> 17744853
B29: Quarterround(3,7,11,15) | H29: =INDEX(quater_round(H25,L25,P25,T25),1,1) -> 22533A66 | L29: =INDEX(quater_round(H25,L25,P25,T25),1,2) -> 40CAFC58 | P29: =INDEX(quater_round(H25,L25,P25,T25),1,3) -> CE7A0B45 | T29: =INDEX(quater_round(H25,L25,P25,T25),1,4) -> FA9931B9
B30: Quarterround(0,5,10,15) | E30: =INDEX(quater_round(E26,J27,O28,T29),1,1) -> 4DA26E7C | J30: =INDEX(quater_round(E26,J27,O28,T29),1,2) -> 0F146F29 | O30: =INDEX(quater_round(E26,J27,O28,T29),1,3) -> 8F1B2A34 | T30: =INDEX(quater_round(E26,J27,O28,T29),1,4) -> 89E47817
B31: Quarterround(1,6,11,12) | F31: =INDEX(quater_round(F27,K28,P29,Q26),1,1) -> AE4266AE | K31: =INDEX(quater_round(F27,K28,P29,Q26),1,2) -> DF34559E | P31: =INDEX(quater_round(F27,K28,P29,Q26),1,3) -> 42FB93C8 | Q31: =INDEX(quater_round(F27,K28,P29,Q26),1,4) -> E6DCCE23
B32: Quarterround(2,7,8,13) | G32: =INDEX(quater_round(G28,L29,M26,R27),1,1) -> FE46567E | L32: =INDEX(quater_round(G28,L29,M26,R27),1,2) -> 5D3F8BA0 | M32: =INDEX(quater_round(G28,L29,M26,R27),1,3) -> F1BCFF5E | R32: =INDEX(quater_round(G28,L29,M26,R27),1,4) -> AD6B132E
B33: Quarterround(3,4,9,14) | H33: =INDEX(quater_round(H29,I26,N27,S28),1,1) -> FD0FE750 | I33: =INDEX(quater_round(H29,I26,N27,S28),1,2) -> 635BC95D | N33: =INDEX(quater_round(H29,I26,N27,S28),1,3) -> 0482C1EE | S33: =INDEX(quater_round(H29,I26,N27,S28),1,4) -> 88CEEFC5
E34: =E30 -> 4DA26E7C | F34: =F31 -> AE4266AE | G34: =G32 -> FE46567E | H34: =H33 -> FD0FE750 | I34: =I33 -> 635BC95D | J34: =J30 -> 0F146F29 | K34: =K31 -> DF34559E | L34: =L32 -> 5D3F8BA0 | M34: =M32 -> F1BCFF5E | N34: =N33 -> 0482C1EE | O34: =O30 -> 8F1B2A34 | P34: =P31 -> 42FB93C8 | Q34: =Q31 -> E6DCCE23 | R34: =R32 -> AD6B132E | S34: =S33 -> 88CEEFC5 | T34: =T30 -> 89E47817
E36: Round 3+4
E37: 0 | F37: 1 | G37: 2 | H37: 3 | I37: 4 | J37: 5 | K37: 6 | L37: 7 | M37: 8 | N37: 9 | O37: 10 | P37: 11 | Q37: 12 | R37: 13 | S37: 14 | T37: 15
E38: {=E34:T34} -> 4DA26E7C | F38: AE4266AE | G38: FE46567E | H38: FD0FE750 | I38: 635BC95D | J38: 0F146F29 | K38: DF34559E | L38: 5D3F8BA0 | M38: F1BCFF5E | N38: 0482C1EE | O38: 8F1B2A34 | P38: 42FB93C8 | Q38: E6DCCE23 | R38: AD6B132E | S38: 88CEEFC5 | T38: 89E47817
B39: Quarterround(0,4,8,12) | E39: =INDEX(quater_round(E38,I38,M38,Q38),1,1) -> 7ACC1067 | I39: =INDEX(quater_round(E38,I38,M38,Q38),1,2) -> 1821C6F4 | M39: =INDEX(quater_round(E38,I38,M38,Q38),1,3) -> 21FD9B03 | Q39: =INDEX(quater_round(E38,I38,M38,Q38),1,4) -> 36464583
B40: Quarterround(1,5,9,13) | F40: =INDEX(quater_round(F38,J38,N38,R38),1,1) -> B927021D | J40: =INDEX(quater_round(F38,J38,N38,R38),1,2) -> 2EEF7629 | N40: =INDEX(quater_round(F38,J38,N38,R38),1,3) -> A98DF2AA | R40: =INDEX(quater_round(F38,J38,N38,R38),1,4) -> DE12207F
B41: Quarterround(2,6,10,14) | G41: =INDEX(quater_round(G38,K38,O38,S38),1,1) -> E0220CF8 | K41: =INDEX(quater_round(G38,K38,O38,S38),1,2) -> 75562BE6 | O41: =INDEX(quater_round(G38,K38,O38,S38),1,3) -> CE4DCC8B | S41: =INDEX(quater_round(G38,K38,O38,S38),1,4) -> FB594CA3
B42: Quarterround(3,7,11,15) | H42: =INDEX(quater_round(H38,L38,P38,T38),1,1) -> 291CA3FD | L42: =INDEX(quater_round(H38,L38,P38,T38),1,2) -> CF464DC3 | P42: =INDEX(quater_round(H38,L38,P38,T38),1,3) -> 4953BD96 | T42: =INDEX(quater_round(H38,L38,P38,T38),1,4) -> FB705623
B43: Quarterround(0,5,10,15) | E43: =INDEX(quater_round(E39,J40,O41,T42),1,1) -> 905381AE | J43: =INDEX(quater_round(E39,J40,O41,T42),1,2) -> A1BFC44C | O43: =INDEX(quater_round(E39,J40,O41,T42),1,3) -> 7FD48496 | T43: =INDEX(quater_round(E39,J40,O41,T42),1,4) -> E0D36540
B44: Quarterround(1,6,11,12) | F44: =INDEX(quater_round(F40,K41,P42,Q39),1,1) -> 8E60AA1B | K44: =INDEX(quater_round(F40,K41,P42,Q39),1,2) -> 33455765 | P44: =INDEX(quater_round(F40,K41,P42,Q39),1,3) -> 9585F6B6 | Q44: =INDEX(quater_round(F40,K41,P42,Q39),1,4) -> E0B220E5
B45: Quarterround(2,7,8,13) | G45: =INDEX(quater_round(G41,L42,M39,R40),1,1) -> F3843FF3 | L45: =INDEX(quater_round(G41,L42,M39,R40),1,2) -> 85B99F4C | M45: =INDEX(quater_round(G41,L42,M39,R40),1,3) -> DD109606 | R45: =INDEX(quater_round(G41,L42,M39,R40),1,4) -> 404E8989
B46: Quarterround(3,4,9,14) | H46: =INDEX(quater_round(H42,I39,N40,S41),1,1) -> 57FCC86D | I46: =INDEX(quater_round(H42,I39,N40,S41),1,2) -> 76757F34 | N46: =INDEX(quater_round(H42,I39,N40,S41),1,3) -> 7E52B782 | S46: =INDEX(quater_round(H42,I39,N40,S41),1,4) -> AE720A71
E47: =E43 -> 905381AE | F47: =F44 -> 8E60AA1B | G47: =G45 -> F3843FF3 | H47: =H46 -> 57FCC86D | I47: =I46 -> 76757F34 | J47: =J43 -> A1BFC44C | K47: =K44 -> 33455765 | L47: =L45 -> 85B99F4C | M47: =M45 -> DD109606 | N47: =N46 -> 7E52B782 | O47: =O43 -> 7FD48496 | P47: =P44 -> 9585F6B6 | Q47: =Q44 -> E0B220E5 | R47: =R45 -> 404E8989 | S47: =S46 -> AE720A71 | T47: =T43 -> E0D36540
E49: Round 5+6
E50: 0 | F50: 1 | G50: 2 | H50: 3 | I50: 4 | J50: 5 | K50: 6 | L50: 7 | M50: 8 | N50: 9 | O50: 10 | P50: 11 | Q50: 12 | R50: 13 | S50: 14 | T50: 15
E51: {=E47:T47} -> 905381AE | F51: 8E60AA1B | G51: F3843FF3 | H51: 57FCC86D | I51: 76757F34 | J51: A1BFC44C | K51: 33455765 | L51: 85B99F4C | M51: DD109606 | N51: 7E52B782 | O51: 7FD48496 | P51: 9585F6B6 | Q51: E0B220E5 | R51: 404E8989 | S51: AE720A71 | T51: E0D36540
B52: Quarterround(0,4,8,12) | E52: =INDEX(quater_round(E51,I51,M51,Q51),1,1) -> D7045998 | I52: =INDEX(quater_round(E51,I51,M51,Q51),1,2) -> 719C6768 | M52: =INDEX(quater_round(E51,I51,M51,Q51),1,3) -> 00D86078 | Q52: =INDEX(quater_round(E51,I51,M51,Q51),1,4) -> 03BFE3F7
...

Sheet Operations
C3: ="Rotate("&D7&","&E10&")" -> Rotate(61707865,0) | K3: Quarterround(0,4,8,12)
N5: a | O5: b | P5: c | Q5: d
N6: =ChaCha20!E20 -> 61707865 | O6: =ChaCha20!I20 -> 34333231 | P6: =ChaCha20!M20 -> 34333231 | Q6: =ChaCha20!Q20 -> 00000000
D7: =ChaCha20!E20 -> 61707865 | K7: (1) a=a+b | N7: {=word_add(N6,O6)} -> 95A3AA96
K8: (2) d=ROTATE(d^a,16) | Q8: {=rotate_word(xor_word(Q6,N7),16)} -> AA9695A3
C9: {=word2bin(D7)} -> 01100001011100000111100001100101 | K9: (3) c=c+d | P9: {=word_add(P6,Q8)} -> DEC9C7D4
D10: Rotate: | E10: 0 | H10: ="Rotate ("&E10&")" -> Rotate (0) | K10: (4) b=ROTATE(b^c,12) | O10: {=rotate_word(xor_word(O6,P9),12)} -> AF5E5EAF
C11: {=word2bin(D13)} -> 01100001011100000111100001100101 | K11: (5) a=a+b | N11: {=word_add(N7,O10)} -> 45020945
K12: (6) d=ROTATE(d^a,8) | Q12: {=rotate_word(xor_word(Q8,N11),8)} -> 949CE6EF
D13: {=rotate_word(D7,E10)} -> 61707865 | K13: (7) c=c+d | P13: {=word_add(P9,Q12)} -> 7366AEC3
K14: (8) b=ROTATE(b^c,7) | O14: {=rotate_word(xor_word(O10,P13),7)} -> 1C78366E
N15: =N11 -> 45020945 | O15: =O14 -> 1C78366E | P15: =P13 -> 7366AEC3 | Q15: =Q12 -> 949CE6EF
C19: LittleEndian
C21: =MID(ChaCha20!E20,1,8) -> 61707865
C22: =MID(C21,1,2) -> 61 | D22: =MID(C21,3,2) -> 70 | E22: =MID(C21,5,2) -> 78 | F22: =MID(C21,7,2) -> 65
C25: =F22 -> 65 | D25: =E22 -> 78 | E25: =D22 -> 70 | F25: =C22 -> 61
C26: {=littleEndian(C21)} -> 65787061
